BEGIN:VCALENDAR
VERSION:2.0
PRODID:icalendar-ruby
CALSCALE:GREGORIAN
METHOD:PUBLISH
BEGIN:VEVENT
DTSTAMP:20260425T040324Z
UID:6-495979@newhope291.tithelysetup2.com
DTSTART:20261021T223000Z
DTEND:20261021T234500Z
CLASS:PUBLIC
CREATED:20260424T224551
DESCRIPTION:Join us for a time of discipleship and fellowship. Ministry is 
 available for all ages. 
LAST-MODIFIED:20260424T224551
LOCATION:New Hope Assembly of God\, 900 Peairs Rd\, Elizabeth PA
SUMMARY:Family Night
URL;VALUE=URI:https://newhopeelizabeth.com/events/family-night/2026-10-21
END:VEVENT
END:VCALENDAR
